BEGIN:VCALENDAR
VERSION:2.0
PRODID:-//Université Mapon - ECPv6.15.3//NONSGML v1.0//EN
CALSCALE:GREGORIAN
METHOD:PUBLISH
X-ORIGINAL-URL:https://universitemapon.ac.cd
X-WR-CALDESC:Events for Université Mapon
REFRESH-INTERVAL;VALUE=DURATION:PT1H
X-Robots-Tag:noindex
X-PUBLISHED-TTL:PT1H
BEGIN:VTIMEZONE
TZID:UTC
BEGIN:STANDARD
TZOFFSETFROM:+0000
TZOFFSETTO:+0000
TZNAME:UTC
DTSTART:20210101T000000
END:STANDARD
END:VTIMEZONE
BEGIN:VEVENT
DTSTART;TZID=UTC:20210717T080000
DTEND;TZID=UTC:20210821T170000
DTSTAMP:20260420T005139
CREATED:20210724T074055Z
LAST-MODIFIED:20210724T074056Z
UID:20335-1626508800-1629565200@universitemapon.ac.cd
SUMMARY:Compétition de Football 2021
DESCRIPTION:Dans le cadre de promouvoir la culture\, le sport et le loisir\, la coordination de l’université Mapon organise une compétition de football qui va du 17 juillet au 21 août 2021. \nCette dernière a pour objectif de réunir les étudiants de différentes promotions et facultés afin de renforcer nos relations dans un cadre autre que celui des études… \nLa compétition comprend 6 équipes dont une pour le personnel de l’université ; la classe préparatoire\, vu le nombre\, a formé deux équipes ; Préparatoire A et Préparatoire B\, le premier et le deuxième bachelier polytechnique ont formé chacun une équipe ; enfin le premier bachelier économie en a formé une aussi. \nD’après les informations recueillies auprès du ministre du sport ATUMISI NGOI Sixte\, étudiant en deuxième bachelier polytechnique\, toutes les confrontations aurons lieux au stade de l’université\, entre 12 heures et 16 heures. Il a aussi ajouté qu’il y’a des récompenses prévues pour les trois meilleures équipes\, le meilleur jouer\, le meilleur buteur ainsi que le meilleur passeur de la compétition. \nC’est ce samedi 17 juillet 2021\, dans une ambiance mythique\, sous un soleil accablant digne de la ville de Kindu qu’a débuté le tournoi.
URL:https://universitemapon.ac.cd/event/competition-de-football-2021/
CATEGORIES:Olympiad,University life
ATTACH;FMTTYPE=image/jpeg:https://universitemapon.ac.cd/wp-content/uploads/2019/11/soccer-ball-and-goal-on-football-field-PMDZ6G4-scaled.jpg
ORGANIZER;CN="COORDINATION DES ETUDIANTS":MAILTO:sport@universitemapon.ac.cd
END:VEVENT
END:VCALENDAR